Workbook

Sheet Base
A1: Nombre Torneo | B1: Pos. Tabla | C1: Equipo | D1: Pts | E1: PJ | F1: PG | G1: PE | H1: PP | I1: Equipo Corregido | J1: Nro. Torneo | K1: Nro. Temporada | L1: Estado | M1: Efect. Equipo en Torneo | N1: Efectiv max del Torneo | O1: Efect. Prom. del Torneo | P1: Equipo Supera Efect. Prom.
A2: Apertura 2009 | B2: 1 | C2: Banfield | D2: 41 | E2: 19 | F2: 12 | G2: 5 | H2: 2 | I2: =VLOOKUP(C2,Aux_Club!$G$3:$H$67,2,FALSE) -> Banfield | J2: =VLOOKUP(A2,Aux_Torneo!$A$1:$D$28,3,FALSE) -> 1 | K2: =_xlfn.XLOOKUP(A2,Aux_Torneo!A:A,Aux_Torneo!D:D) -> 1 | L2: =_xlfn.XLOOKUP(A2,Aux_Torneo!A:A,Aux_Torneo!B:B) -> SIN | M2: =D2/(E2*3) -> 0.71929825 | N2: =VLOOKUP(J2,Calculos!$A$3:$D$67,2,FALSE) -> 0.71929825 | O2: =VLOOKUP(J2,Calculos!$A$3:$D$72,3,FALSE) -> 0.45614035 | P2: =IF(VLOOKUP(J2,Calculos!$A$3:$D$68,3,FALSE)>M2,0,1) -> 1
A3: Apertura 2009 | B3: 2 | C3: Newells | D3: 39 | E3: 19 | F3: 12 | G3: 3 | H3: 4 | I3: =VLOOKUP(C3,Aux_Club!$G$3:$H$67,2,FALSE) -> Newells | J3: =VLOOKUP(A3,Aux_Torneo!$A$2:$C$39,3,FALSE) -> 1 | K3: =_xlfn.XLOOKUP(A3,Aux_Torneo!A:A,Aux_Torneo!D:D) -> 1 | L3: =_xlfn.XLOOKUP(A3,Aux_Torneo!A:A,Aux_Torneo!B:B) -> SIN | M3: =D3/(E3*3) -> 0.68421053 | N3: =VLOOKUP(J3,Calculos!$A$3:$D$67,2,FALSE) -> 0.71929825 | O3: =VLOOKUP(J3,Calculos!$A$3:$D$72,3,FALSE) -> 0.45614035 | P3: =IF(VLOOKUP(J3,Calculos!$A$3:$D$68,3,FALSE)>M3,0,1) -> 1
A4: Apertura 2009 | B4: 3 | C4: Colon | D4: 34 | E4: 19 | F4: 10 | G4: 4 | H4: 5 | I4: =VLOOKUP(C4,Aux_Club!$G$3:$H$67,2,FALSE) -> Colon | J4: =VLOOKUP(A4,Aux_Torneo!$A$2:$C$39,3,FALSE) -> 1 | K4: =_xlfn.XLOOKUP(A4,Aux_Torneo!A:A,Aux_Torneo!D:D) -> 1 | L4: =_xlfn.XLOOKUP(A4,Aux_Torneo!A:A,Aux_Torneo!B:B) -> SIN | M4: =D4/(E4*3) -> 0.59649123 | N4: =VLOOKUP(J4,Calculos!$A$3:$D$67,2,FALSE) -> 0.71929825 | O4: =VLOOKUP(J4,Calculos!$A$3:$D$72,3,FALSE) -> 0.45614035 | P4: =IF(VLOOKUP(J4,Calculos!$A$3:$D$68,3,FALSE)>M4,0,1) -> 1
A5: Apertura 2009 | B5: 4 | C5: Independiente | D5: 34 | E5: 19 | F5: 10 | G5: 4 | H5: 5 | I5: =VLOOKUP(C5,Aux_Club!$G$3:$H$67,2,FALSE) -> Independiente | J5: =VLOOKUP(A5,Aux_Torneo!$A$2:$C$39,3,FALSE) -> 1 | K5: =_xlfn.XLOOKUP(A5,Aux_Torneo!A:A,Aux_Torneo!D:D) -> 1 | L5: =_xlfn.XLOOKUP(A5,Aux_Torneo!A:A,Aux_Torneo!B:B) -> SIN | M5: =D5/(E5*3) -> 0.59649123 | N5: =VLOOKUP(J5,Calculos!$A$3:$D$67,2,FALSE) -> 0.71929825 | O5: =VLOOKUP(J5,Calculos!$A$3:$D$72,3,FALSE) -> 0.45614035 | P5: =IF(VLOOKUP(J5,Calculos!$A$3:$D$68,3,FALSE)>M5,0,1) -> 1
A6: Apertura 2009 | B6: 5 | C6: Velez | D6: 34 | E6: 19 | F6: 10 | G6: 4 | H6: 5 | I6: =VLOOKUP(C6,Aux_Club!$G$3:$H$67,2,FALSE) -> Velez | J6: =VLOOKUP(A6,Aux_Torneo!$A$2:$C$39,3,FALSE) -> 1 | K6: =_xlfn.XLOOKUP(A6,Aux_Torneo!A:A,Aux_Torneo!D:D) -> 1 | L6: =_xlfn.XLOOKUP(A6,Aux_Torneo!A:A,Aux_Torneo!B:B) -> SIN | M6: =D6/(E6*3) -> 0.59649123 | N6: =VLOOKUP(J6,Calculos!$A$3:$D$67,2,FALSE) -> 0.71929825 | O6: =VLOOKUP(J6,Calculos!$A$3:$D$72,3,FALSE) -> 0.45614035 | P6: =IF(VLOOKUP(J6,Calculos!$A$3:$D$68,3,FALSE)>M6,0,1) -> 1
A7: Apertura 2009 | B7: 6 | C7: Argentinos | D7: 32 | E7: 19 | F7: 8 | G7: 8 | H7: 3 | I7: =VLOOKUP(C7,Aux_Club!$G$3:$H$67,2,FALSE) -> Argentinos | J7: =VLOOKUP(A7,Aux_Torneo!$A$2:$C$39,3,FALSE) -> 1 | K7: =_xlfn.XLOOKUP(A7,Aux_Torneo!A:A,Aux_Torneo!D:D) -> 1 | L7: =_xlfn.XLOOKUP(A7,Aux_Torneo!A:A,Aux_Torneo!B:B) -> SIN | M7: =D7/(E7*3) -> 0.56140351 | N7: =VLOOKUP(J7,Calculos!$A$3:$D$67,2,FALSE) -> 0.71929825 | O7: =VLOOKUP(J7,Calculos!$A$3:$D$72,3,FALSE) -> 0.45614035 | P7: =IF(VLOOKUP(J7,Calculos!$A$3:$D$68,3,FALSE)>M7,0,1) -> 1
A8: Apertura 2009 | B8: 7 | C8: San Lorenzo | D8: 32 | E8: 19 | F8: 9 | G8: 5 | H8: 5 | I8: =VLOOKUP(C8,Aux_Club!$G$3:$H$67,2,FALSE) -> San Lorenzo | J8: =VLOOKUP(A8,Aux_Torneo!$A$2:$C$39,3,FALSE) -> 1 | K8: =_xlfn.XLOOKUP(A8,Aux_Torneo!A:A,Aux_Torneo!D:D) -> 1 | L8: =_xlfn.XLOOKUP(A8,Aux_Torneo!A:A,Aux_Torneo!B:B) -> SIN | M8: =D8/(E8*3) -> 0.56140351 | N8: =VLOOKUP(J8,Calculos!$A$3:$D$67,2,FALSE) -> 0.71929825 | O8: =VLOOKUP(J8,Calculos!$A$3:$D$72,3,FALSE) -> 0.45614035 | P8: =IF(VLOOKUP(J8,Calculos!$A$3:$D$68,3,FALSE)>M8,0,1) -> 1
A9: Apertura 2009 | B9: 8 | C9: Estudiantes (LP) | D9: 31 | E9: 19 | F9: 9 | G9: 4 | H9: 6 | I9: =VLOOKUP(C9,Aux_Club!$G$3:$H$67,2,FALSE) -> Estudiantes (LP) | J9: =VLOOKUP(A9,Aux_Torneo!$A$2:$C$39,3,FALSE) -> 1 | K9: =_xlfn.XLOOKUP(A9,Aux_Torneo!A:A,Aux_Torneo!D:D) -> 1 | L9: =_xlfn.XLOOKUP(A9,Aux_Torneo!A:A,Aux_Torneo!B:B) -> SIN | M9: =D9/(E9*3) -> 0.54385965 | N9: =VLOOKUP(J9,Calculos!$A$3:$D$67,2,FALSE) -> 0.71929825 | O9: =VLOOKUP(J9,Calculos!$A$3:$D$72,3,FALSE) -> 0.45614035 | P9: =IF(VLOOKUP(J9,Calculos!$A$3:$D$68,3,FALSE)>M9,0,1) -> 1
A10: Apertura 2009 | B10: 9 | C10: Lanus | D10: 31 | E10: 19 | F10: 8 | G10: 7 | H10: 4 | I10: =VLOOKUP(C10,Aux_Club!$G$3:$H$67,2,FALSE) -> Lanus | J10: =VLOOKUP(A10,Aux_Torneo!$A$2:$C$39,3,FALSE) -> 1 | K10: =_xlfn.XLOOKUP(A10,Aux_Torneo!A:A,Aux_Torneo!D:D) -> 1 | L10: =_xlfn.XLOOKUP(A10,Aux_Torneo!A:A,Aux_Torneo!B:B) -> SIN | M10: =D10/(E10*3) -> 0.54385965 | N10: =VLOOKUP(J10,Calculos!$A$3:$D$67,2,FALSE) -> 0.71929825 | O10: =VLOOKUP(J10,Calculos!$A$3:$D$72,3,FALSE) -> 0.45614035 | P10: =IF(VLOOKUP(J10,Calculos!$A$3:$D$68,3,FALSE)>M10,0,1) -> 1
A11: Apertura 2009 | B11: 10 | C11: Rosario Central | D11: 31 | E11: 19 | F11: 8 | G11: 7 | H11: 4 | I11: =VLOOKUP(C11,Aux_Club!$G$3:$H$67,2,FALSE) -> Rosario Central | J11: =VLOOKUP(A11,Aux_Torneo!$A$2:$C$39,3,FALSE) -> 1 | K11: =_xlfn.XLOOKUP(A11,Aux_Torneo!A:A,Aux_Torneo!D:D) -> 1 | L11: =_xlfn.XLOOKUP(A11,Aux_Torneo!A:A,Aux_Torneo!B:B) -> SIN | M11: =D11/(E11*3) -> 0.54385965 | N11: =VLOOKUP(J11,Calculos!$A$3:$D$67,2,FALSE) -> 0.71929825 | O11: =VLOOKUP(J11,Calculos!$A$3:$D$72,3,FALSE) -> 0.45614035 | P11: =IF(VLOOKUP(J11,Calculos!$A$3:$D$68,3,FALSE)>M11,0,1) -> 1
A12: Apertura 2009 | B12: 11 | C12: Boca Juniors | D12: 27 | E12: 19 | F12: 7 | G12: 6 | H12: 6 | I12: =VLOOKUP(C12,Aux_Club!$G$3:$H$67,2,FALSE) -> Boca Juniors | J12: =VLOOKUP(A12,Aux_Torneo!$A$2:$C$39,3,FALSE) -> 1 | K12: =_xlfn.XLOOKUP(A12,Aux_Torneo!A:A,Aux_Torneo!D:D) -> 1 | L12: =_xlfn.XLOOKUP(A12,Aux_Torneo!A:A,Aux_Torneo!B:B) -> SIN | M12: =D12/(E12*3) -> 0.47368421 | N12: =VLOOKUP(J12,Calculos!$A$3:$D$67,2,FALSE) -> 0.71929825 | O12: =VLOOKUP(J12,Calculos!$A$3:$D$72,3,FALSE) -> 0.45614035 | P12: =IF(VLOOKUP(J12,Calculos!$A$3:$D$68,3,FALSE)>M12,0,1) -> 1
A13: Apertura 2009 | B13: 12 | C13: Arsenal | D13: 27 | E13: 19 | F13: 7 | G13: 6 | H13: 6 | I13: =VLOOKUP(C13,Aux_Club!$G$3:$H$67,2,FALSE) -> Arsenal | J13: =VLOOKUP(A13,Aux_Torneo!$A$2:$C$39,3,FALSE) -> 1 | K13: =_xlfn.XLOOKUP(A13,Aux_Torneo!A:A,Aux_Torneo!D:D) -> 1 | L13: =_xlfn.XLOOKUP(A13,Aux_Torneo!A:A,Aux_Torneo!B:B) -> SIN | M13: =D13/(E13*3) -> 0.47368421 | N13: =VLOOKUP(J13,Calculos!$A$3:$D$67,2,FALSE) -> 0.71929825 | O13: =VLOOKUP(J13,Calculos!$A$3:$D$72,3,FALSE) -> 0.45614035 | P13: =IF(VLOOKUP(J13,Calculos!$A$3:$D$68,3,FALSE)>M13,0,1) -> 1
A14: Apertura 2009 | B14: 13 | C14: Atl Tucuman | D14: 22 | E14: 19 | F14: 6 | G14: 4 | H14: 9 | I14: =VLOOKUP(C14,Aux_Club!$G$3:$H$67,2,FALSE) -> Atl Tucuman | J14: =VLOOKUP(A14,Aux_Torneo!$A$2:$C$39,3,FALSE) -> 1 | K14: =_xlfn.XLOOKUP(A14,Aux_Torneo!A:A,Aux_Torneo!D:D) -> 1 | L14: =_xlfn.XLOOKUP(A14,Aux_Torneo!A:A,Aux_Torneo!B:B) -> SIN | M14: =D14/(E14*3) -> 0.38596491 | N14: =VLOOKUP(J14,Calculos!$A$3:$D$67,2,FALSE) -> 0.71929825 | O14: =VLOOKUP(J14,Calculos!$A$3:$D$72,3,FALSE) -> 0.45614035 | P14: =IF(VLOOKUP(J14,Calculos!$A$3:$D$68,3,FALSE)>M14,0,1) -> 0
... A669: Copa Clausura 2025 | B669: 15 | C669: Platense | D669: 12 | E669: 16 | F669: 2 | G669: 6 | H669: 8 | I669: =VLOOKUP(C669,Aux_Club!$G$3:$H$67,2,FALSE) -> Platense | J669: =VLOOKUP(A669,Aux_Torneo!$A$2:$C$39,3,FALSE) -> 27 | K669: =_xlfn.XLOOKUP(A669,Aux_Torneo!A:A,Aux_Torneo!D:D) -> 16 | L669: =_xlfn.XLOOKUP(A669,Aux_Torneo!A:A,Aux_Torneo!B:B) -> Con | M669: =D669/(E669*3) -> 0.25 | N669: =VLOOKUP(J669,Calculos!$A$3:$D$67,2,FALSE) -> 0.64583333 | O669: =VLOOKUP(J669,Calculos!$A$3:$D$72,3,FALSE) -> 0.44444444 | P669: =IF(VLOOKUP(J669,Calculos!$A$3:$D$68,3,FALSE)>M669,0,1) -> 0

Sheet Aux_Club
A1: (1) tabla que acumula los equipos de "BASE" | G1: (2) tabla donde se corrige el nombre de los equipos
A2: Equipo | B2: Cuenta de Torneo | G2: Equipo | H2: Equipo Corregido | I2: Conteo Unico
A3: Aldosivi | B3: 10 | G3: Aldosivi | H3: =+G3 -> Aldosivi | I3: =IF(H3=H2,0,1) -> 1
A4: All Boys | B4: 8 | G4: All Boys | H4: =+G4 -> All Boys | I4: =IF(H4=H3,0,1) -> 1
A5: Argentinos | B5: 23 | G5: Argentinos | H5: =+G5 -> Argentinos | I5: =IF(H5=H4,0,1) -> 1
A6: Argentinos Juniors | B6: 1 | G6: Argentinos Juniors | H6: =+G5 -> Argentinos | I6: =IF(H6=H5,0,1) -> 0
A7: Arsenal | B7: 22 | G7: Arsenal | H7: =+G7 -> Arsenal | I7: =IF(H7=H6,0,1) -> 1
A8: Atl Rafaela | B8: 10 | G8: Atl Rafaela | H8: =+G8 -> Atl Rafaela | I8: =IF(H8=H7,0,1) -> 1
A9: Atl Tucuman | B9: 14 | G9: Atl Tucuman | H9: =+G9 -> Atl Tucuman | I9: =IF(H9=H8,0,1) -> 1
A10: Atl. Tucumán | B10: 2 | G10: Atl. Tucumán | H10: =+G9 -> Atl Tucuman | I10: =IF(H10=H9,0,1) -> 0
A11: Banfield | B11: 22 | G11: Banfield | H11: =+G11 -> Banfield | I11: =IF(H11=H10,0,1) -> 1
A12: Barracas | B12: 2 | G12: Barracas | H12: =+G13 -> Barracas Central | I12: =IF(H12=H11,0,1) -> 1
A13: Barracas Central | B13: 5 | G13: Barracas Central | H13: =+G13 -> Barracas Central | I13: =IF(H13=H12,0,1) -> 0
A14: Belgrano | B14: 17 | G14: Belgrano | H14: =+G14 -> Belgrano | I14: =IF(H14=H13,0,1) -> 1
A15: Boca Jrs. | B15: 2 | G15: Boca Jrs. | H15: =+G16 -> Boca Juniors | I15: =IF(H15=H14,0,1) -> 1
A16: Boca Juniors | B16: 24 | G16: Boca Juniors | H16: =+G16 -> Boca Juniors | I16: =IF(H16=H15,0,1) -> 0
A17: Central | B17: 2 | G17: Central | H17: =+G50 -> Rosario Central | I17: =IF(H17=H16,0,1) -> 1
A18: Central Cba (SdE) | B18: 9 | G18: Central Cba (SdE) | H18: =+G18 -> Central Cba (SdE) | I18: =IF(H18=H17,0,1) -> 1
A19: Chacarita | B19: 3 | G19: Chacarita | H19: =+G19 -> Chacarita | I19: =IF(H19=H18,0,1) -> 1
A20: Colon | B20: 22 | G20: Colon | H20: =+G20 -> Colon | I20: =IF(H20=H19,0,1) -> 1
A21: Crucero (M) | B21: 1 | G21: Crucero (M) | H21: =+G21 -> Crucero (M) | I21: =IF(H21=H20,0,1) -> 1
A22: Def y Justicia | B22: 14 | G22: Def y Justicia | H22: =+G22 -> Def y Justicia | I22: =IF(H22=H21,0,1) -> 1
A23: Defensa | B23: 2 | G23: Defensa | H23: =+G22 -> Def y Justicia | I23: =IF(H23=H22,0,1) -> 0
A24: Deportivo Riestra | B24: 1 | G24: Deportivo Riestra | H24: =+G24 -> Deportivo Riestra | I24: =IF(H24=H23,0,1) -> 1
A25: Estudiantes | B25: 2 | G25: Estudiantes | H25: =+G26 -> Estudiantes (LP) | I25: =IF(H25=H24,0,1) -> 1
A26: Estudiantes (LP) | B26: 24 | G26: Estudiantes (LP) | H26: =+G26 -> Estudiantes (LP) | I26: =IF(H26=H25,0,1) -> 0
A27: Gimnasia | B27: 2 | G27: Gimnasia | H27: =+G28 -> Gimnasia (LP) | I27: =IF(H27=H26,0,1) -> 1
A28: Gimnasia (LP) | B28: 20 | G28: Gimnasia (LP) | H28: =+G28 -> Gimnasia (LP) | I28: =IF(H28=H27,0,1) -> 0
A29: Godoy Cruz | B29: 26 | G29: Godoy Cruz | H29: =+G29 -> Godoy Cruz | I29: =IF(H29=H28,0,1) -> 1
A30: Huracan | B30: 17 | G30: Huracan | H30: =+G30 -> Huracan | I30: =IF(H30=H29,0,1) -> 1
A31: Huracán | B31: 2 | G31: Huracán | H31: =+G30 -> Huracan | I31: =IF(H31=H30,0,1) -> 0
A32: Ind Rivadavia | B32: 1 | G32: Ind Rivadavia | H32: =+G32 -> Ind Rivadavia | I32: =IF(H32=H31,0,1) -> 1
A33: Ind. Rivadavia | B33: 2 | G33: Ind. Rivadavia | H33: =+G32 -> Ind Rivadavia | I33: =IF(H33=H32,0,1) -> 0
A34: Independiente | B34: 24 | G34: Independiente | H34: =+G34 -> Independiente | I34: =IF(H34=H33,0,1) -> 1
A35: Instituto | B35: 5 | G35: Instituto | H35: =+G35 -> Instituto | I35: =IF(H35=H34,0,1) -> 1
A36: Lanus | B36: 24 | G36: Lanus | H36: =+G36 -> Lanus | I36: =IF(H36=H35,0,1) -> 1
A37: Lanús | B37: 2 | G37: Lanús | H37: =+G36 -> Lanus | I37: =IF(H37=H36,0,1) -> 0
A38: Newells | B38: 24 | G38: Newells | H38: =+G38 -> Newells | I38: =IF(H38=H37,0,1) -> 1
A39: Newell's | B39: 2 | G39: Newell's | H39: =+G38 -> Newells | I39: =IF(H39=H38,0,1) -> 0
A40: Nueva Chicago | B40: 1 | G40: Nueva Chicago | H40: =+G40 -> Nueva Chicago | I40: =IF(H40=H39,0,1) -> 1
A41: Olimpo | B41: 11 | G41: Olimpo | H41: =+G41 -> Olimpo | I41: =IF(H41=H40,0,1) -> 1
A42: Patronato | B42: 9 | G42: Patronato | H42: =+G42 -> Patronato | I42: =IF(H42=H41,0,1) -> 1
A43: Platense | B43: 9 | G43: Platense | H43: =+G43 -> Platense | I43: =IF(H43=H42,0,1) -> 1
A44: Quilmes | B44: 10 | G44: Quilmes | H44: =+G44 -> Quilmes | I44: =IF(H44=H43,0,1) -> 1
A45: Racing | B45: 2 | G45: Racing | H45: =+G46 -> Racing Club | I45: =IF(H45=H44,0,1) -> 1
A46: Racing Club | B46: 24 | G46: Racing Club | H46: =+G46 -> Racing Club | I46: =IF(H46=H45,0,1) -> 0
A47: Riestra | B47: 2 | G47: Riestra | H47: =+G24 -> Deportivo Riestra | I47: =IF(H47=H46,0,1) -> 1
A48: River | B48: 2 | G48: River | H48: =+G49 -> River Plate | I48: =IF(H48=H47,0,1) -> 1
A49: River Plate | B49: 22 | G49: River Plate | H49: =+G49 -> River Plate | I49: =IF(H49=H48,0,1) -> 0
A50: Rosario Central | B50: 18 | G50: Rosario Central | H50: =+G50 -> Rosario Central | I50: =IF(H50=H49,0,1) -> 1
A51: San Lorenzo | B51: 26 | G51: San Lorenzo | H51: =+G51 -> San Lorenzo | I51: =IF(H51=H50,0,1) -> 1
A52: San Martin (SJ) | B52: 9 | G52: San Martin (SJ) | H52: =+G52 -> San Martin (SJ) | I52: =IF(H52=H51,0,1) -> 1
A53: San Martin (T) | B53: 1 | G53: San Martin (T) | H53: =+G53 -> San Martin (T) | I53: =IF(H53=H52,0,1) -> 1
A54: Sarmiento (J) | B54: 11 | G54: Sarmiento (J) | H54: =+G54 -> Sarmiento (J) | I54: =IF(H54=H53,0,1) -> 1
A55: Talleres | B55: 2 | G55: Talleres | H55: =+G56 -> Talleres (C) | I55: =IF(H55=H54,0,1) -> 1
A56: Talleres (C) | B56: 11 | G56: Talleres (C) | H56: =+G56 -> Talleres (C) | I56: =IF(H56=H55,0,1) -> 0
A57: Temperley | B57: 4 | G57: Temperley | H57: =+G57 -> Temperley | I57: =IF(H57=H56,0,1) -> 1
A58: Tigre | B58: 23 | G58: Tigre | H58: =+G58 -> Tigre | I58: =IF(H58=H57,0,1) -> 1
A59: Union | B59: 17 | G59: Union | H59: =+G59 -> Union | I59: =IF(H59=H58,0,1) -> 1
A60: Unión | B60: 2 | G60: Unión | H60: =+G59 -> Union | I60: =IF(H60=H59,0,1) -> 0
A61: Velez | B61: 24 | G61: Velez | H61: =+G61 -> Velez | I61: =IF(H61=H60,0,1) -> 1
A62: Vélez | B62: 2 | G62: Vélez | H62: =+G61 -> Velez | I62: =IF(H62=H61,0,1) -> 0
A63: (en blanco) | G63: Central Córdoba | H63: =+G18 -> Central Cba (SdE) | I63: =IF(H63=H62,0,1) -> 1
A64: Central Córdoba | B64: 1 | G64: Sarmiento | H64: =+G54 -> Sarmiento (J) | I64: =IF(H64=H63,0,1) -> 1
A65: Sarmiento | B65: 1 | G65: San Martín | H65: =+G52 -> San Martin (SJ) | I65: =IF(H65=H64,0,1) -> 1
A66: San Martín | B66: 1
A67: Total general | B67: 638

Sheet Aux_Torneo
A1: Nombre Torneo | B1: Estado | C1: Nro. Torneo | D1: Nro. Temporada | F1: Equipo Corregido | G1: Talleres (C)
A2: Apertura 2009 | B2: SIN | C2: 1 | D2: 1
A3: Clausura 2010 | B3: SIN | C3: =+C2+1 -> 2 | D3: 1 | F3: Nro. Torneo | G3: Nombre Torneo
A4: Apertura 2010 | B4: SIN | C4: =+C3+1 -> 3 | D4: 2 | F4: 14 | G4: Campeonato 2016/17
A5: Clausura 2011 | B5: SIN | C5: =+C4+1 -> 4 | D5: 2 | F5: 15 | G5: Campeonato 2017/18
A6: Apertura 2011 | B6: SIN | C6: =+C5+1 -> 5 | D6: 3 | F6: 16 | G6: Campeonato 2018/19
A7: Clausura 2012 | B7: SIN | C7: =+C6+1 -> 6 | D7: 3 | F7: 17 | G7: Superliga 2019/20
A8: Inicial 2012 | B8: SIN | C8: =+C7+1 -> 7 | D8: 4 | F8: 18 | G8: Copa de la Liga 2021
A9: Final 2013 | B9: SIN | C9: =+C8+1 -> 8 | D9: 4 | F9: 19 | G9: Campeonato 2021
A10: Inicial 2013 | B10: SIN | C10: =+C9+1 -> 9 | D10: 5 | F10: 20 | G10: Copa de la Liga 2022
A11: Torneo Final 2014 | B11: SIN | C11: =+C10+1 -> 10 | D11: 5 | F11: 21 | G11: Campeonato 2022
A12: Transicion 2014 | B12: SIN | C12: =+C11+1 -> 11 | D12: 6 | F12: 22 | G12: LIGA PROFESIONAL 2023
A13: Campeonato 2015 | B13: SIN | C13: =+C12+1 -> 12 | D13: 7 | F13: 23 | G13: COPA DE LA LIGA PROFESIONAL 2023
A14: Transicion 2016 | B14: SIN | C14: =+C13+1 -> 13 | D14: 8 | F14: 24 | G14: COPA DE LA LIGA PROFESIONAL 2024
A15: Campeonato 2016/17 | B15: Con | C15: =+C14+1 -> 14 | D15: 8 | F15: 25 | G15: LIGA PROFESIONAL 2024
... A17: Campeonato 2018/19 | B17: Con | C17: =+C16+1 -> 16 | D17: 10 | F17: 27 | G17: Copa Clausura 2025
A18: Superliga 2019/20 | B18: Con | C18: =+C17+1 -> 17 | D18: 11 | F18: Total general
A19: Copa de la Liga 2021 | B19: Con | C19: =+C18+1 -> 18 | D19: 12
A20: Campeonato 2021 | B20: Con | C20: =+C19+1 -> 19 | D20: 12
A21: Copa de la Liga 2022 | B21: Con | C21: =+C20+1 -> 20 | D21: 13
A22: Campeonato 2022 | B22: Con | C22: =+C21+1 -> 21 | D22: 13
A23: LIGA PROFESIONAL 2023 | B23: Con | C23: =+C22+1 -> 22 | D23: 14
A24: COPA DE LA LIGA PROFESIONAL 2023 | B24: Con | C24: =+C23+1 -> 23 | D24: 14
A25: COPA DE LA LIGA PROFESIONAL 2024 | B25: Con | C25: =+C24+1 -> 24 | D25: 15
A26: LIGA PROFESIONAL 2024 | B26: Con | C26: =+C25+1 -> 25 | D26: 15
A27: Copa Apertura 2025 | B27: Con | C27: =+C26+1 -> 26 | D27: 16
A28: Copa Clausura 2025 | B28: Con | C28: =+C27+1 -> 27 | D28: 16

Sheet Calculos
A1: (1) calculos de efectividad por torneo y comparativa entre torneo según el torneo de mejor rendimiento | F1: (2) calculos de efectividad promedio del torneo, segun cantidad de equipos participantes
A2: Nro. Torneo | B2: MAX de Efect. Equipo en Torneo | C2: Efect. Equipo en Torneo Prom. | D2: =MAX(B4:B30) -> 0.79487179 | F2: Nro. Torneo | G2: MAX de Efect. Prom. del Torneo | H2: Equipos | I2: Equipos Superan Efect. Prom.
A3: 1 | B3: 0.71929825 | C3: 0.45614035 | D3: =B3/$D$2-1 -> -0.095076401 | F3: 11 | G3: 0.46052632 | H3: 20 | I3: 6
A4: 2 | B4: 0.71929825 | C4: 0.45614035 | D4: =B4/$D$2-1 -> -0.095076401 | F4: 1 | G4: 0.45614035 | H4: 20 | I4: 12
A5: 3 | B5: 0.78947368 | C5: 0.45175439 | D5: =B5/$D$2-1 -> -0.0067911715 | F5: 2 | G5: 0.45614035 | H5: 20 | I5: 10
A6: 4 | B6: 0.68421053 | C6: 0.44912281 | D6: =B6/$D$2-1 -> -0.13921902 | F6: 14 | G6: 0.45592593 | H6: 30 | I6: 15
A7: 5 | B7: 0.75438596 | C7: 0.44122807 | D7: =B7/$D$2-1 -> -0.050933786 | F7: 17 | G7: 0.45410628 | H7: 24 | I7: 12
A8: 6 | B8: 0.66666667 | C8: 0.44824561 | D8: =B8/$D$2-1 -> -0.16129032 | F8: 18 | G8: 0.45364892 | H8: 26 | I8: 15
A9: 7 | B9: 0.71929825 | C9: 0.44385965 | D9: =B9/$D$2-1 -> -0.095076401 | F9: 15 | G9: 0.45326279 | H9: 28 | I9: 14
A10: 8 | B10: 0.66666667 | C10: 0.44210526 | D10: =B10/$D$2-1 -> -0.16129032 | F10: 3 | G10: 0.45175439 | H10: 20 | I10: 10
A11: 9 | B11: 0.57894737 | C11: 0.44298246 | D11: =B11/$D$2-1 -> -0.27164686 | F11: 24 | G11: 0.45153061 | H11: 28 | I11: 14
A12: 10 | B12: 0.64912281 | C12: 0.44912281 | D12: =B12/$D$2-1 -> -0.18336163 | F12: 13 | G12: 0.45138889 | H12: 30 | I12: 14
A13: 11 | B13: 0.71929825 | C13: 0.46052632 | D13: =B13/$D$2-1 -> -0.095076401 | F13: 19 | G13: 0.45076923 | H13: 26 | I13: 12
A14: 12 | B14: 0.71111111 | C14: 0.44814815 | D14: =B14/$D$2-1 -> -0.10537634 | F14: 20 | G14: 0.44982993 | H14: 28 | I14: 13
... A29: 27 | B29: 0.64583333 | C29: 0.44444444 | D29: =B29/$D$2-1 -> -0.1875 | F29: 5 | G29: 0.44122807 | H29: 20 | I29: 10

Sheet Resumen
A1: (1) desempeño de equipos que han jugado en primera división desde 2009, si se expande el equipo se verá el analisis por torneo
B2: Estado | C2: (Todas)
A4: Posición | B4: Equipo Corregido | C4: Nro. Torneo | D4: Nombre Torneo | E4: Pos. x Torneo | F4: Puntos | G4: Partidos | H4: Torneos Jugados | I4: Efect. Equipo en Torneo | J4: Efectiv max del Torneo | K4: Efect. Prom. del Torneo | L4: Dif. Puntos Talleres (C) respecto a | M4: Relación respecto a Efect. Prom. del Torneo
A5: 1 | B5: Boca Juniors | F5: 956 | G5: 553 | H5: 27 | I5: 0.56625099 | J5: 0.79487179 | K5: 0.46052632 | L5: =VLOOKUP("Talleres (C)",$B$5:$F$69,5,FALSE)-F5 -> -516 | M5: =CONCATENATE(IF(I5<K5,"Debajo Prom: ","Encima Prom: "),ROUND(((I5/K5)-1)*100,0),"%") -> Encima Prom: 23%
A6: =+A5+1 -> 2 | B6: River Plate | F6: 880 | G6: 515 | H6: 25 | I6: 0.56355667 | J6: 0.79487179 | K6: 0.46052632 | L6: =VLOOKUP("Talleres (C)",$B$5:$F$69,5,FALSE)-F6 -> -440 | M6: =CONCATENATE(IF(I6<K6,"Debajo Prom: ","Encima Prom: "),ROUND(((I6/K6)-1)*100,0),"%") -> Encima Prom: 22%
A7: =+A6+1 -> 3 | B7: Racing Club | F7: 877 | G7: 553 | H7: 27 | I7: 0.524583 | J7: 0.79487179 | K7: 0.46052632 | L7: =VLOOKUP("Talleres (C)",$B$5:$F$69,5,FALSE)-F7 -> -437 | M7: =CONCATENATE(IF(I7<K7,"Debajo Prom: ","Encima Prom: "),ROUND(((I7/K7)-1)*100,0),"%") -> Encima Prom: 14%
A8: =+A7+1 -> 4 | B8: Estudiantes (LP) | F8: 851 | G8: 553 | H8: 27 | I8: 0.51691226 | J8: 0.79487179 | K8: 0.46052632 | L8: =VLOOKUP("Talleres (C)",$B$5:$F$69,5,FALSE)-F8 -> -411 | M8: =CONCATENATE(IF(I8<K8,"Debajo Prom: ","Encima Prom: "),ROUND(((I8/K8)-1)*100,0),"%") -> Encima Prom: 12%
A9: =+A8+1 -> 5 | B9: Velez | F9: 842 | G9: 553 | H9: 27 | I9: 0.51911157 | J9: 0.79487179 | K9: 0.46052632 | L9: =VLOOKUP("Talleres (C)",$B$5:$F$69,5,FALSE)-F9 -> -402 | M9: =CONCATENATE(IF(I9<K9,"Debajo Prom: ","Encima Prom: "),ROUND(((I9/K9)-1)*100,0),"%") -> Encima Prom: 13%
A10: =+A9+1 -> 6 | B10: Lanus | F10: 826 | G10: 553 | H10: 27 | I10: 0.50245442 | J10: 0.79487179 | K10: 0.46052632 | L10: =VLOOKUP("Talleres (C)",$B$5:$F$69,5,FALSE)-F10 -> -386 | M10: =CONCATENATE(IF(I10<K10,"Debajo Prom: ","Encima Prom: "),ROUND(((I10/K10)-1)*100,0),"%") -> Encima Prom: 9%
A11: =+A10+1 -> 7 | B11: San Lorenzo | F11: 810 | G11: 553 | H11: 27 | I11: 0.48297021 | J11: 0.79487179 | K11: 0.46052632 | L11: =VLOOKUP("Talleres (C)",$B$5:$F$69,5,FALSE)-F11 -> -370 | M11: =CONCATENATE(IF(I11<K11,"Debajo Prom: ","Encima Prom: "),ROUND(((I11/K11)-1)*100,0),"%") -> Encima Prom: 5%
A12: =+A11+1 -> 8 | B12: Newells | F12: 749 | G12: 553 | H12: 27 | I12: 0.45087452 | J12: 0.79487179 | K12: 0.46052632 | L12: =VLOOKUP("Talleres (C)",$B$5:$F$69,5,FALSE)-F12 -> -309 | M12: =CONCATENATE(IF(I12<K12,"Debajo Prom: ","Encima Prom: "),ROUND(((I12/K12)-1)*100,0),"%") -> Debajo Prom: -2%
A13: =+A12+1 -> 9 | B13: Godoy Cruz | F13: 747 | G13: 553 | H13: 27 | I13: 0.45110119 | J13: 0.79487179 | K13: 0.46052632 | L13: =VLOOKUP("Talleres (C)",$B$5:$F$69,5,FALSE)-F13 -> -307 | M13: =CONCATENATE(IF(I13<K13,"Debajo Prom: ","Encima Prom: "),ROUND(((I13/K13)-1)*100,0),"%") -> Debajo Prom: -2%
A14: =+A13+1 -> 10 | B14: Independiente | F14: 747 | G14: 515 | H14: 25 | I14: 0.48111135 | J14: 0.79487179 | K14: 0.46052632 | L14: =VLOOKUP("Talleres (C)",$B$5:$F$69,5,FALSE)-F14 -> -307 | M14: =CONCATENATE(IF(I14<K14,"Debajo Prom: ","Encima Prom: "),ROUND(((I14/K14)-1)*100,0),"%") -> Encima Prom: 4%
A15: =+A14+1 -> 11 | B15: Argentinos | F15: 685 | G15: 503 | H15: 25 | I15: 0.45909236 | J15: 0.79487179 | K15: 0.45614035 | L15: =VLOOKUP("Talleres (C)",$B$5:$F$69,5,FALSE)-F15 -> -245 | M15: =CONCATENATE(IF(I15<K15,"Debajo Prom: ","Encima Prom: "),ROUND(((I15/K15)-1)*100,0),"%") -> Encima Prom: 1%
A16: =+A15+1 -> 12 | B16: Rosario Central | F16: 616 | G16: 439 | H16: 21 | I16: 0.46797635 | J16: 0.79487179 | K16: 0.46052632 | L16: =VLOOKUP("Talleres (C)",$B$5:$F$69,5,FALSE)-F16 -> -176 | M16: =CONCATENATE(IF(I16<K16,"Debajo Prom: ","Encima Prom: "),ROUND(((I16/K16)-1)*100,0),"%") -> Encima Prom: 2%
A17: =+A16+1 -> 13 | B17: Tigre | F17: 609 | G17: 492 | H17: 24 | I17: 0.40835935 | J17: 0.79166667 | K17: 0.46052632 | L17: =VLOOKUP("Talleres (C)",$B$5:$F$69,5,FALSE)-F17 -> -169 | M17: =CONCATENATE(IF(I17<K17,"Debajo Prom: ","Encima Prom: "),ROUND(((I17/K17)-1)*100,0),"%") -> Debajo Prom: -11%
... A46: =+A45+1 -> 42 | B46: Crucero (M) | F46: 14 | G46: 30 | H46: 1 | I46: 0.15555556 | J46: 0.71111111 | K46: 0.44814815 | L46: =VLOOKUP("Talleres (C)",$B$5:$F$69,5,FALSE)-F46 -> 426 | M46: =CONCATENATE(IF(I46<K46,"Debajo Prom: ","Encima Prom: "),ROUND(((I46/K46)-1)*100,0),"%") -> Debajo Prom: -65%
B47: (en blanco)
B48: Total general | F48: 18619 | G48: 13808 | H48: 668 | I48: 0.44935494 | J48: 0.79487179 | K48: 0.46052632
