Workbook

Sheet Instrucciones
A1: Plantilla: Cálculo de horas trabajadas de viajantes
A3: Cómo usar esta plantilla
A4: 1. Cargá las tarifas por zona en la hoja "TarifasZona" (celdas resaltadas en amarillo).
A5: 2. En la hoja "Planilla", completá una fila por cada tarea: Empleado, Zona, fecha y hora de entrada, fecha y hora de salida (celdas amarillas).
A6: 3. Las columnas Duración, Tarifa y Pago se calculan solas con fórmulas. No hace falta tocarlas.
A7: 4. Para agregar más filas, seleccioná la última fila con fórmulas y arrastrá hacia abajo (o copiá y pegá la fila completa).
A9: Reglas de cálculo aplicadas
A10: • Zona: define qué tarifa por hora se usa (tabla TarifasZona).
A11: • Si la tarea dura 5 horas o menos, se paga a tarifa simple.
A12: • Si dura más de 5 horas, las primeras 5 se pagan a tarifa normal.
A13: • Las horas que exceden las 5, si el viajante termina después de las 17 hs, se pagan un 50% más.
A14: • Las horas que exceden las 5, si termina antes de las 17 hs, se pagan un 20% más.
A16: Esta plantilla acompaña la publicación "Cómo calcular las horas trabajadas de tus viajantes en Excel".

Sheet TarifasZona
A1: Zona | B1: Tarifa por hora
A2: Dentro | B2: 2000
A3: Fuera | B3: 2800
A5: Editá estos valores (celdas amarillas) para reflejar tus tarifas reales.

Sheet Planilla
A1: Empleado | B1: Zona | C1: Fecha entrada | D1: Hora entrada | E1: Fecha salida | F1: Hora salida | G1: Duración (hs) | H1: Tarifa | I1: Pago
A2: Marcos | B2: Dentro | C2: 46268 | D2: 0.33333333 | E2: 46268 | F2: 0.52083333 | G2: =IF(AND(C2<>"",D2<>"",E2<>"",F2<>""),((E2+F2)-(C2+D2))*24,"") -> 4.5 | H2: =IFERROR(VLOOKUP(B2,TarifasZona!A:B,2,FALSE()),"") -> 2000 | I2: =IFERROR(IF(G2<=5,G2*H2,IF(F2>TIME(17,0,0),(5*H2)+((G2-5)*H2*1.5),(5*H2)+((G2-5)*H2*1.2))),"") -> 9000
A3: Julieta | B3: Fuera | C3: 46268 | D3: 0.375 | E3: 46268 | F3: 0.79166667 | G3: =IF(AND(C3<>"",D3<>"",E3<>"",F3<>""),((E3+F3)-(C3+D3))*24,"") -> 10 | H3: =IFERROR(VLOOKUP(B3,TarifasZona!A:B,2,FALSE()),"") -> 2800 | I3: =IFERROR(IF(G3<=5,G3*H3,IF(F3>TIME(17,0,0),(5*H3)+((G3-5)*H3*1.5),(5*H3)+((G3-5)*H3*1.2))),"") -> 35000
A4: Nahuel | B4: Dentro | C4: 46268 | D4: 0.54166667 | E4: 46268 | F4: 0.77083333 | G4: =IF(AND(C4<>"",D4<>"",E4<>"",F4<>""),((E4+F4)-(C4+D4))*24,"") -> 5.5 | H4: =IFERROR(VLOOKUP(B4,TarifasZona!A:B,2,FALSE()),"") -> 2000 | I4: =IFERROR(IF(G4<=5,G4*H4,IF(F4>TIME(17,0,0),(5*H4)+((G4-5)*H4*1.5),(5*H4)+((G4-5)*H4*1.2))),"") -> 11500
G5: =IF(AND(C5<>"",D5<>"",E5<>"",F5<>""),((E5+F5)-(C5+D5))*24,"") | H5: =IFERROR(VLOOKUP(B5,TarifasZona!A:B,2,FALSE()),"") | I5: =IFERROR(IF(G5<=5,G5*H5,IF(F5>TIME(17,0,0),(5*H5)+((G5-5)*H5*1.5),(5*H5)+((G5-5)*H5*1.2))),"")
G6: =IF(AND(C6<>"",D6<>"",E6<>"",F6<>""),((E6+F6)-(C6+D6))*24,"") | H6: =IFERROR(VLOOKUP(B6,TarifasZona!A:B,2,FALSE()),"") | I6: =IFERROR(IF(G6<=5,G6*H6,IF(F6>TIME(17,0,0),(5*H6)+((G6-5)*H6*1.5),(5*H6)+((G6-5)*H6*1.2))),"")
G7: =IF(AND(C7<>"",D7<>"",E7<>"",F7<>""),((E7+F7)-(C7+D7))*24,"") | H7: =IFERROR(VLOOKUP(B7,TarifasZona!A:B,2,FALSE()),"") | I7: =IFERROR(IF(G7<=5,G7*H7,IF(F7>TIME(17,0,0),(5*H7)+((G7-5)*H7*1.5),(5*H7)+((G7-5)*H7*1.2))),"")
G8: =IF(AND(C8<>"",D8<>"",E8<>"",F8<>""),((E8+F8)-(C8+D8))*24,"") | H8: =IFERROR(VLOOKUP(B8,TarifasZona!A:B,2,FALSE()),"") | I8: =IFERROR(IF(G8<=5,G8*H8,IF(F8>TIME(17,0,0),(5*H8)+((G8-5)*H8*1.5),(5*H8)+((G8-5)*H8*1.2))),"")
G9: =IF(AND(C9<>"",D9<>"",E9<>"",F9<>""),((E9+F9)-(C9+D9))*24,"") | H9: =IFERROR(VLOOKUP(B9,TarifasZona!A:B,2,FALSE()),"") | I9: =IFERROR(IF(G9<=5,G9*H9,IF(F9>TIME(17,0,0),(5*H9)+((G9-5)*H9*1.5),(5*H9)+((G9-5)*H9*1.2))),"")
G10: =IF(AND(C10<>"",D10<>"",E10<>"",F10<>""),((E10+F10)-(C10+D10))*24,"") | H10: =IFERROR(VLOOKUP(B10,TarifasZona!A:B,2,FALSE()),"") | I10: =IFERROR(IF(G10<=5,G10*H10,IF(F10>TIME(17,0,0),(5*H10)+((G10-5)*H10*1.5),(5*H10)+((G10-5)*H10*1.2))),"")
G11: =IF(AND(C11<>"",D11<>"",E11<>"",F11<>""),((E11+F11)-(C11+D11))*24,"") | H11: =IFERROR(VLOOKUP(B11,TarifasZona!A:B,2,FALSE()),"") | I11: =IFERROR(IF(G11<=5,G11*H11,IF(F11>TIME(17,0,0),(5*H11)+((G11-5)*H11*1.5),(5*H11)+((G11-5)*H11*1.2))),"")
G12: =IF(AND(C12<>"",D12<>"",E12<>"",F12<>""),((E12+F12)-(C12+D12))*24,"") | H12: =IFERROR(VLOOKUP(B12,TarifasZona!A:B,2,FALSE()),"") | I12: =IFERROR(IF(G12<=5,G12*H12,IF(F12>TIME(17,0,0),(5*H12)+((G12-5)*H12*1.5),(5*H12)+((G12-5)*H12*1.2))),"")
G13: =IF(AND(C13<>"",D13<>"",E13<>"",F13<>""),((E13+F13)-(C13+D13))*24,"") | H13: =IFERROR(VLOOKUP(B13,TarifasZona!A:B,2,FALSE()),"") | I13: =IFERROR(IF(G13<=5,G13*H13,IF(F13>TIME(17,0,0),(5*H13)+((G13-5)*H13*1.5),(5*H13)+((G13-5)*H13*1.2))),"")
G14: =IF(AND(C14<>"",D14<>"",E14<>"",F14<>""),((E14+F14)-(C14+D14))*24,"") | H14: =IFERROR(VLOOKUP(B14,TarifasZona!A:B,2,FALSE()),"") | I14: =IFERROR(IF(G14<=5,G14*H14,IF(F14>TIME(17,0,0),(5*H14)+((G14-5)*H14*1.5),(5*H14)+((G14-5)*H14*1.2))),"")
G15: =IF(AND(C15<>"",D15<>"",E15<>"",F15<>""),((E15+F15)-(C15+D15))*24,"") | H15: =IFERROR(VLOOKUP(B15,TarifasZona!A:B,2,FALSE()),"") | I15: =IFERROR(IF(G15<=5,G15*H15,IF(F15>TIME(17,0,0),(5*H15)+((G15-5)*H15*1.5),(5*H15)+((G15-5)*H15*1.2))),"")
G16: =IF(AND(C16<>"",D16<>"",E16<>"",F16<>""),((E16+F16)-(C16+D16))*24,"") | H16: =IFERROR(VLOOKUP(B16,TarifasZona!A:B,2,FALSE()),"") | I16: =IFERROR(IF(G16<=5,G16*H16,IF(F16>TIME(17,0,0),(5*H16)+((G16-5)*H16*1.5),(5*H16)+((G16-5)*H16*1.2))),"")
